BEGIN:VCALENDAR
VERSION:2.0
PRODID:https://github.com/derhansen/sf_event_mgt
METHOD:PUBLISH
BEGIN:VEVENT
UID:726-3844@spacetech.agh.edu.pl
CLASS: PUBLIC
SUMMARY:Space Week 2026
DESCRIPTION: 	Space Week 2026 	When: 4-10.10.2026 
DTSTAMP:20251103T143839Z
DTSTART:20261004T060000Z
DTEND:20261010T160000Z
END:VEVENT
END:VCALENDAR